Workbook
Name ______X1: #REF!
Name ______X1: #REF!
Name ______X1: #REF!
Name ______X1: #REF!
Name ______X1: #REF!
Name ______X1: #REF!
Name ______X1: #REF!
Name ______X1: #REF!
Name ______X1: #REF!
Name ______X11: #REF!
Name ______X11: #REF!
Name ______X11: #REF!
Name ______X11: #REF!
Name ______X11: #REF!
Name ______X11: #REF!
Name ______X11: #REF!
Name ______X11: #REF!
Name ______X11: #REF!
Name _____Mo12: #REF!
Name _____Mo12: #REF!
Name _____Mo12: #REF!
Name _____Mo12: #REF!
Name _____Mo12: #REF!
Name _____Mo12: #REF!
Name _____Mo12: #REF!
Name _____Mo12: #REF!
Name _____Mo12: #REF!
Name _____Mo5: #REF!
Name _____Mo5: #REF!
Name _____Mo5: #REF!
Name _____Mo5: #REF!
Name _____Mo5: #REF!
Name _____Mo5: #REF!
Name _____Mo5: #REF!
Name _____Mo5: #REF!
Name _____Mo5: #REF!
Name _____mo7: #REF!
Name _____mo7: #REF!
Name _____mo7: #REF!
Name _____mo7: #REF!
Name _____mo7: #REF!
Name _____mo7: #REF!
Name _____mo7: #REF!
Name _____X1: #REF!
Name _____X1: #REF!
Name _____X1: #REF!
Name _____X1: #REF!
Name _____X1: #REF!
Name _____X1: #REF!
Name _____X1: #REF!
Name _____X1: #REF!
Name _____X1: #REF!
Name _____X1: #REF!
Name _____X1: #REF!
Name _____X1: #REF!
Name _____X11: #REF!
Name _____X11: #REF!
Name _____X11: #REF!
Name _____X11: #REF!
Name _____X11: #REF!

Sheet 9800 Checklist
K1: BL 26-23
K2: Attachment A
D3: Item 9800 Employee Compensation Adjustments Workbook Checklist
A6: Business Unit # (Org Code)
A8: Department Name
A10: Item 9800 Salary Adjustment Worksheet (Tab 4)
B11: 1. Verified multiple adjustments are not applied to the same position when applying Salary Adjustments from Worksheet 3. For example, if a department has an employee with a CBID of E99, that does not
B12: mean that employee is eligible for every adjustment with a CBID of E99. The department must determine which collective bargaining unit that position is related to and apply the appropriate Salary Adjustment.
B13: 2. 2026-27 and 2027-28 "Salary Base" not to exceed Current Year Regular/Ongoing salaries on the 7A for any one adjustment, if all positions listed on the Schedule 7A are affected by the Salary Adjustment.
B14: 3. The total number of positions receiving GSIs or equivalent SSAs as calculated on Tab 4 must not exceed the department's total authorized positions listed on the Schedule 7A.
B15: 4. 2026-27 and 2027-28 "Salary Base" only includes currently filled positions unless Column I of Tab 3 indicates the adjustment in question should be applied to all vacant positions.
B16: 5. Limited-term positions and positions in the Temporary Help Blanket are excluded from the 2026-27 and 2027-28 "Salary Base" and "Number of Positions" for all adjustments.
B17: 6. Salary Adjustments calculated for 2026-27 are not compounded into the 2027-28 "Salary Base." The 2026-27 and 2027-28 "Salary Base" totals should tie to each other, unless Salary Adjustments from Worksheet 3
B18: require the inclusion of employees for only one year.
B19: 7. Verified the appropriate salary-driven benefits (i.e., OASDI, Medicare, retirement contributions) are applied to the Salary Adjustment. Refer to Worksheet 3 for details.
B20: 8. Amount calculated for salary-driven benefits included in the BBA Upload Template with a “Benefit Adjustment” baseline adjustment type, not "Salary Adjustment" type.
B21: 9. Provided supporting documentation for each Salary Adjustment that identifies the corresponding employees by CBID (e.g., R01, M01, E97).
B22: 10. Must be entered in whole dollars and rounded to thousands (e.g., $1,987 should be rounded to $2,000).
A24: Item 9800 Benefit Adjustment Worksheet (Tab 5)
B25: 1. Provided supporting documentation identifying actual enrollees in either 1-Party, 2-Party, or Family plans.
B26: 2. Exclude employees opting for the cash value (FlexElect Cash Option) from the amount entered under the "Number of Enrollees."
A28: Item 9800 OPEB Worksheet (Tab 6)
B29: This worksheet is not included in this workbook due to the suspension of OPEB contributions in 2026-27.
A31: Item 9800 Fund Split Worksheet (Tab 7)
B32: 1. Verified the program/subprogram used by the accounting office, which is generally what is displayed in the 2026 Budget Act.
B33: 2. Category Codes 510XXXX (Salaries and Wages) for Salary Adjustments, 515XXXX (Staff Benefits) for Benefit Adjustments, and 5150820 for OPEB Adjustments must be used.
B34: 3. Must be entered in whole dollars and rounded to thousands (e.g., $1,987 should be rounded to $2,000).
B35: 4. For Reimbursements, Fund 0995 must be used to schedule reimbursements to the associated program/category spending those funds.
B36: 5. For distributed administration costs, use Program 9900100 (positive adjustment) and Category 51XXXXX to show the positive total being distributed to a particular program, Program 9900200
B37: (negative adjustment) and Category 5342500 to reflect the total distributed cost, and the Program (positive adjustment) that pays for various distributed costs with Category 5342500.
B38: 6. All items must be approved by departmental accounting management to ensure that all items will post properly to the FI$Cal system prior to submitting to Finance.
A40: Item 9800 Crossties (Tab 8)
B41: 1. All crossties equal 0.
A43: Hyperion Entries and BBA Upload Templates
B44: 1. BR Name: Use standard naming convention for a unique BR Name (e.g., 2222-XXX-BBA-2027-GB).
B45: 2. BR Titles: “Allocation for Employee Compensation” for Salary Adjustments, “Allocation for Staff Benefits” for Benefit Adjustments, and “Allocation for Other Post-Employment Benefits” for OPEB Adjustments must be used.
B46: 3. BBA Type: "Salary Adjustments” for Salary Adjustments, “Benefit Adjustments” for Benefit Adjustments, and “Other Post-Employment Benefits Adjustments” for OPEB Adjustments must be selected.
B47: 4. ENY: Unless scheduling to a continuous or continuing appropriation, select an ENY of 2026 for CY Expenditures adjustments and an ENY of 2027 for BY-BY4 Expenditures adjustments.
B48: 5. Category Codes: Category 510XXXX (Salaries and Wages) for Salary Adjustments and 515XXXX (Staff Benefits) for Benefit Adjustments. No OPEB adjustments are necessary for 2026-27.
B49: 6. Must be entered in whole dollars and rounded to thousands (e.g., $1,987 should be rounded to $2,000).
...

Sheet 1
K1: ='9800 Checklist'!K1 -> BL 26-23
K2: Worksheet 1
D3: Item 9800 Summary Worksheet
E4: Current Year 2026-27
E5: (Whole Dollars—Rounded to Nearest Thousand)
A7: ='9800 Checklist'!A5 -> 0
A8: Business Unit # (Org Code)
A10: ='9800 Checklist'!A7:E7 -> 0
A11: Department Name
G14: Current Year 2026-27
D15: - A - | G15: - B - | J15: - C -
J16: (A + B)
D17: Salary Adjustment | G17: Benefit Adjustment | J17: Total Adjustments
B18: Description
A20: 1. | B20: Salary Adjustment | E20: ='4'!Q107 -> 0 | H20: ='4'!S107 -> 0 | J20: =E20+H20 -> 0
A22: 2. | B22: Benefit Adjustment | E22: N/A | H22: ='5'!K40 -> 0 | J22: =H22 -> 0
A24: 3. | B24: OPEB Adjustment (There is no OPEB adjustments this year, Column C should be $0) | E24: N/A | H24: ='6'!Q29 -> 0 | J24: =H24 -> 0
B26: SUBTOTAL | E26: =E20 -> 0 | H26: =SUM(H22+H20+H24) -> 0 | J26: =E26+H26 -> 0
B28: CURRENT YEAR TOTAL: | J28: =ROUND(J26,0) -> 0
G29: Non
G30: Governmental
B31: Fund Split | D31: General Fund | E31: Special Fund | G31: Cost Fund | H31: Reimbursements | J31: Total, All Funds
B32: Fund Split Total By Fund Class: | D32: ='7'!J1071 -> 0 | E32: ='7'!J1072 -> 0 | G32: ='7'!J1073 -> 0 | H32: ='7'!J1074 -> 0 | J32: ='7'!J1076 -> 0
B35: ***Please note all highlighted cells retrieve data from cells contained in this Worksheet and/or Workbook***
C37: ='9800 Checklist'!D55 -> Due to Finance Budget Analyst no later than COB October 23, 2026
K39: =K1 -> BL 26-23
K40: Worksheet 1
D41: Item 9800 Summary Worksheet
E42: Budget Year 2027-28
E43: (Whole Dollars—Rounded to Nearest Thousand)
A45: =A7 -> 0
A46: Business Unit # (Org Code)
A48: =A10 -> 0
A49: Department Name
G52: Budget Year 2027-28
D53: - A - | G53: - B - | J53: - C -
J54: (A + B)
D55: Salary Adjustment | G55: Benefit Adjustment | J55: Total Adjustments
B56: Description
A58: 1. | B58: Salary Adjustment | E58: ='4'!Q240 -> 0 | H58: ='4'!S240 -> 0 | J58: =E58+H58 -> 0
...

Sheet 2
E1: ='9800 Checklist'!K1 -> BL 26-23
E2: Worksheet 2
C3: Item 9800 List of Bargaining Units
A5: Unit Number | C5: Union | E5: Description
A7: 1 | C7: Service Employees International Union (SEIU) | E7: Professional, Administrative, Financial and Staff Services
A8: 2 | C8: California Attorneys, Admin Law Judges & Hearing Officers in State Employment (CASE) | E8: Attorneys and Hearing Officers
A9: 3 | C9: Service Employees International Union (SEIU) | E9: Education and Library
A10: 4 | C10: Service Employees International Union (SEIU) | E10: Office and Allied
A11: 5 | C11: California Association of Highway Patrolmen (CAHP) | E11: Highway Patrol
A12: 6 | C12: California Correctional Peace Officers Association (CCPOA) | E12: Corrections
A13: 7 | C13: California Statewide Law Enforcement Association (CSLEA) | E13: Protective Services and Public Safety
A14: 8 | C14: California Department of Forestry Firefighters (CDF Firefighters) | E14: Firefighters
A15: 9 | C15: Professional Engineers in California Government (PECG) | E15: Professional Engineers
A16: 10 | C16: California Association of Professional Scientists (CAPS) | E16: Professional Scientific
A17: 11 | C17: Service Employees International Union (SEIU) | E17: Engineering and Scientific Technicians
A18: 12 | C18: International Union of Operating Engineers (IUOE) | E18: Craft and Maintenance
... A27: 21 | C27: Service Employees International Union (SEIU) | E27: Educational Consultant and Library

Sheet 3
D1: Item 9800 List of Eligible Salary and Benefit Adjustments | H1: ='9800 Checklist'!K1 -> BL 26-23
H2: Worksheet 3
A3: Adjustment Number | B3: CBID | C3: Class Code | D3: Description | E3: Applicable Salary Driven Benefits | F3: Effective Date | G3: Adjustment | H3: Pay Letter #, CalHR Website, or MOU Article | I3: Authorized or Filled Positions?
A4: 1 | B4: R10, M10, S10, E, E10, E48, E59, E98 and E99 | C4: Class Codes: 0100, 0174, 0175, 0176, 0177, 0178, 0179, 0180, 0181, 0486, 0492, 0493, 0495, 0498, 0501, 0509, 0512, 0525, 0530, 0531, 0534, 0537, 0546, 0549, 0563, 0564, 0565, 0751, 0757, 0762, 0765, 0841, 0842, 1220, 1272, 1273, 1274, 1917, 1918, 1919, 1989, 2714, 2795, 2799, 2809, 3057, 3121, 3526, 3527, 3528, 3529, 3755, 3779, 3781, 3801, 3802, 3803, 3824, 3855, 3856, 3931, 4056, 4184, 4185, 4186, 4598, 4708, 4806, 4807, 4935, 4936, 4937, 4938, 4947, 4948, 4949, 5582, 5594, 5609, 5629, 5643, 5651, 5662, 5837, 6230, 7563, 7758, 7858, 7859, 7860, 7861, 7867, 7910, 7939, 7940, 7941, 7942, 7943, 7944, 7945, 7946, 7947, 7948, 7949, 7950, 7951, 7952, 7954, 7956, 7962, 7978, 8044, 8057, 8060, 8068, 8070, 9322, 9359, 9360, and 9361 CBID E, E48, E59, E98, and E99 must be specifically related to Bargaining Unit 10 | D4: 5% Special Salary Adjustment at Maximum Salary | E4: Retirement: Choose Applicable Rates Social Security (OASDI): 6.2%, as applicable Medicare: 1.45% | F4: 46204 | G4: Multiply the base pay of eligible employees at maximum salary only by 5% for 12 months in 2026-27 and 12 months in 2027-28. | H4: Bargaining Unit 10 MOU Section 2.1 | I4: Filled
A5: 2 | B5: R10 | C5: Class Codes: 0490, 0491, and 0494 | D5: 4% Special Salary Adjustment at Maximum Salary | E5: Retirement: Choose Applicable Rates Social Security (OASDI): 6.2%, as applicable Medicare: 1.45% | F5: 46204 | G5: Multiply the base pay of eligible employees at maximum salary only by 4% for 12 months in 2026-27 and 12 months in 2027-28. | H5: Bargaining Unit 10 MOU Section 2.1 | I5: Filled
A6: 3 | B6: R10, M10, S10, E, E10, E48, E59, E98 and E99 | C6: All Eligible: CBID E, E48, E59, E98, and E99 must be specifically related to Bargaining Unit 10 | D6: 3% Special Salary Adjustment | E6: Retirement: Choose Applicable Rates Social Security (OASDI): 6.2%, as applicable Medicare: 1.45% | F6: 46204 | G6: Multiply base pay of all eligible employees by 3% for 12 months in 2026-27 and 12 months in 2027-28. Eligible employees must not have received adjustment 1 or 2 for employees at maximum salary. This adjustment should be applied to all authorized eligible positions, including those currently vacant. | H6: Bargaining Unit 10 MOU Section 2.1 | I6: Authorized, less Filled above.
A7: 4 | B7: R10, E10, E48, E59, M10, S10 | C7: All Eligible: CBID E48 and E59 must be specifically related to Bargaining Unit 10. | D7: PD 499 - 1% Longevity Increase for 20+ Years | E7: Retirement: Choose Applicable Rates Social Security (OASDI): 6.2%, as applicable Medicare: 1.45% | F7: 46204 | G7: Multiply the base pay of employees with 20+ years of state service (after adjusting by applicable Special Salary Adjustment) by 1% for 12 months in 2026-27 and 12 months in 2027-28. | H7: PAY LETTER: 26-23 Pay Differential 499 | I7: Filled
A8: 5 | B8: R06, S06 | C8: Class Codes: 9579, 9659, and 9662 | D8: PD 20 - Canine Officer Rate Increase | E8: Retirement: N/A Social Security (OASDI): N/A Medicare: 1.45% | F8: 46023 | G8: Multiply the number of eligible employees receiving Pay Differential 20 by $9.60 for 12 months in 2026-27 and 12 months in 2027-28. | H8: Pay Letter 26-24 Bargaining Unit 6 MOU Section 15.09 Pay Differential 20 | I8: Filled
A9: 6 | B9: R06, E97, E98, E99, M01, M06, S06 | C9: All Eligible: CBID M01, E97, E98, and E99 employees must be specifically related to Bargaining Unit 6 | D9: PD 476 - $5,000 Retention Differential for Hard-to-Keep Facilities | E9: Retirement: N/A Social Security (OASDI): N/A Medicare: 1.45% | F9: 46204 | G9: Multiply the number of eligible employees who received the incentive in July 2026 by $5,000 in 2026-27. Eligible employees must work at Salinas Valley State Prison, California State Prison, Sacramento, or Richard J. Donovan. Do not add this adjustment amount beyond 2026-27. | H9: PAY LETTER: 25-41 Pay Differential 476 | I9: Filled
A10: 7 | B10: R17, E99, S01, S17, M17 | C10: Class Codes employed by CDCR/CCHCS: 9275, 9318, and 9319 Class Codes employed by Department of State Hospitals: 8094, 8096, 8101, 8132, and 8133 Class Codes employed by Department of Veterans Affairs: 8126, 8129, 8161, and 8165 Class Code employed by Department of Developmental Services: 8165 Class Codes employed by Department of Public Health: 7993, 8011, 8050, 8051, and 8179 | D10: PD 496 - 1% Seniority Pay Increase for 25+ Years | E10: Retirement: Choose Applicable Rates Social Security (OASDI): 6.2%, as applicable Medicare: 1.45% | F10: 46204 | G10: Multiply the base pay of employees in eligible classifications with 25+ years of state service by 1% for 12 months in 2026-27 and 12 months in 2027-28. | H10: PAY LETTER: 26-26 Pay Differential 496 | I10: Filled
A11: 8 | B11: R18 | C11: Class Code: 8229 | D11: 1.1% Minimum Wage Increase ($16.90 minimum wage) | E11: Retirement: Choose Applicable Rates Social Security (OASDI): 6.2%, as applicable Medicare: 1.45% | F11: 46023 | G11: All employees receiving a salary rate below the new minimum salary rate shall move to the new minimum salary rate. Multiply the base pay of all eligible employees up to 1.1% for 12 months in 2026-27 and 12 months in 2027-28. Employees already above the new minimum are not entitled to an increase. | H11: PAY LETTER: 26-XX | I11: Filled
A12: 9 | B12: R12, S12 | C12: Class Codes: 6286, 6297, 6296, and 6301 | D12: Establish 15% Caltrans Encampment Cleanup Crew Differential | E12: Retirement: N/A Social Security (OASDI): 6.2%, as applicable Medicare: 1.45% | F12: 46143 | G12: Multiply the base pay of eligible employees by 15% for 12 months in 2026-27 and 12 months in 2027-28. | H12: PAY LETTER: 26-18 Side Letter Agreement New Article 2.33 Caltrans Encampment Cleanup Crew Differential | I12: Filled
A13: 10 | B13: R07, M07, S07, E48, E59, E97 | C13: All Eligible: CBID E48, E59, and E97 must be specifically related to Bargaining Unit 7. | D13: PD 245 - 1% Longevity Increase for Non-POFF Classifications with 25+ Years | E13: Retirement: Choose Applicable Rates Social Security (OASDI): 6.2%, as applicable Medicare: 1.45% | F13: 46204 | G13: Non-POFF Classifications with 25+ Years only. Multiply the base pay of eligible employees with 25+ years of state service by 1% for 12 months in 2026-27 and 12 months in 2027-28. | H13: PAY LETTER: 26-21 Pay Differential 245 | I13: Filled
A14: 11 | B14: R05 and S05 | C14: Class Codes: 8394 and 8397 | D14: External Vest Carrier Reimbursement | E14: Retirement: N/A Social Security (OASDI): N/A Medicare: 1.45% | F14: 45566 | G14: Multiply the number of eligible employees by $200 in 2026-27 only. Adjustment should only include amount for employees expected to claim reimbursement in 2026-27. | H14: Bargaining Unit 5 MOU Article XII, 80. External Vest Carrier | I14: Authorized
A15: 12 | B15: R05, E99, M05, S05 | C15: All Eligible: CBID E99 must be specifically related to Bargaining Unit 5. | D15: GSI - TBD | E15: Retirement: Choose Applicable Rates Social Security (OASDI): N/A Medicare: 1.45% | F15: 46204 | G15: Contact your Finance Budget Analyst for further instruction. | H15: TBD | I15: Authorized
A16: 13 | B16: R05, E99, M05, S05 | C16: All Eligible: CBID E99 must be specifically related to Bargaining Unit 5. | D16: PLP - TBD | E16: Retirement: Choose Applicable Rates Social Security (OASDI): N/A Medicare: 1.45% | F16: 46204 | G16: Contact your Finance Budget Anaylst for further instruction. | H16: TBD | I16: Authorized

Sheet 3a
F1: ='9800 Checklist'!K1 -> BL 26-23
F2: Worksheet 3a
C3: Item 9800 Benefit Adjustment Instructions
A5: CBID | B5: Description | C5: Effective Date | D5: 2026-27 Adjustment | E5: 2027-28 Adjustment | F5: CalHR 2027 Open Enrollment Toolkit Release Date
A6: R01, R04, R10, R11, R14, R15, R16, R17, R19, R20, and R21 | B6: Health Benefits 80/80 (Formula) | C6: 46357 | D6: Multiply the specific BU enrollment by the 2027 party rate adjustment in the 3b tab by 7 months. | E6: Multiply the specific BU enrollment by the 2027 party rate adjustment in the 3b tab by 12 months. | F6: 46279
A7: R02, R06, R07, R12, R13, and R18 | B7: Health Benefits 80/80 (Flat) | C7: 46357 | D7: Multiply the specific BU enrollment by the 2027 party rate adjustment in the 3b tab by 7 months. | E7: Multiply the specific BU enrollment by the 2027 party rate adjustment in the 3b tab by 12 months. | F7: 46279
A8: R05, R08, R09, and Excluded | B8: Health Benefits 85/80 (Formula) | C8: 46357 | D8: Multiply the specific BU enrollment by the 2027 party rate adjustment in the 3b tab by 7 months. | E8: Multiply the specific BU enrollment by the 2027 party rate adjustment in the 3b tab by 12 months. | F8: 46279
A9: Rank and File | B9: Dental Benefits (All Plans) | C9: 46357 | D9: Multiply the specific BU enrollment by the 2027 party rate adjustment in the 3b tab by 7 months. | E9: Multiply the specific BU enrollment by the 2027 party rate adjustment in the 3b tab by 12 months. | F9: 46279
A10: Excluded | B10: Dental Benefits (All Plans) | C10: 46357 | D10: Multiply the specific BU enrollment by the 2027 party rate adjustment in the 3b tab by 7 months. | E10: Multiply the specific BU enrollment by the 2027 party rate adjustment in the 3b tab by 12 months. | F10: 46279
A11: Note: Health and CoBen adjustments are based on actual enrollment data—this backup must be provided to your Finance Budget Analyst.
A12: CalHR Open Enrollment website is available at: | D12: https://benefits.calhr.ca.gov/open-enrollment/

Sheet 3b
H1: ='9800 Checklist'!K1 -> BL 26-23
H2: Worksheet 3b
C3: Item 9800 Benefit Adjustment Detail
C5: 2027 Health Rate Adjustments
A6: CBID | B6: Formula | C6: 1-Party | D6: 2-Party | E6: Family
A7: R01, R04, R10, R11, R14, R15, R16, R17, R19, R20, R21 | B7: 80/80 Formula | C7: 35 | D7: 68 | E7: 86
A8: R02, R06, R07, R12, R13, R18 | B8: 80/80 Flat | C8: 35 | D8: 68 | E8: 86
A9: R05, R08, R09 | B9: 85/80 Formula | C9: 37 | D9: 71 | E9: 88
A10: Excluded | B10: 85/80 Formula | C10: 37 | D10: 71 | E10: 88
C12: 2027 Dental Rate Adjustments
A13: CBID | B13: Plan | C13: 1-Party | D13: 2-Party | E13: Family
A14: Rank and File (Non-CoBen) | B14: All Plans | C14: 3.33 | D14: 5.81 | E14: 8.4
A15: Rank and File (CoBen) | B15: All Plans | C15: 3 | D15: 5 | E15: 9
A16: Excluded | B16: All Plans | C16: 3 | D16: 7 | E16: 10
A18: Note: Health and Dental adjustments are based on actual enrollment data—this backup must be provided to your Finance Budget Analyst.

Sheet 4
V1: ='9800 Checklist'!K1 -> BL 26-23
V2: Worksheet 4
I3: Item 9800 Salary Adjustment Worksheet
I4: Current Year 2026-27
I5: (Whole Dollars—Rounded to Nearest Thousand)
A7: ='9800 Checklist'!A5:E5 -> 0
A8: Business Unit # (Org Code)
A10: ='9800 Checklist'!A7:E7 -> 0
A11: Department Name
Q12: A | S12: B | U12: C
U13: (A + B)
A14: Adjustment Numbera | C14: CBIDb | E14: Class Codec | G14: Effective Dated | I14: Brief Descriptione | K14: Number of Positionsf | M14: Amount of Adjustmentg | O14: Salary Baseh | Q14: Salary Adjustmenti | S14: Staff Benefitsj | U14: Total Adjustments
U16: =Q16+S16 -> 0
U17: =Q17+S17 -> 0
U18: =Q18+S18 -> 0
U19: =Q19+S19 -> 0
U20: =Q20+S20 -> 0
U21: =Q21+S21 -> 0
U22: =Q22+S22 -> 0
U23: =Q23+S23 -> 0
U24: =Q24+S24 -> 0
U25: =Q25+S25 -> 0
U26: =Q26+S26 -> 0
U27: =Q27+S27 -> 0
... U105: =Q105+S105 -> 0
M107: CURRENT YEAR TOTAL (2026-27): | O107: =ROUND(SUM(O15:O105),-3) -> 0 | Q107: =ROUND(SUM(Q15:Q106),-3) -> 0 | S107: =ROUND(SUM(S15:S106),-3) -> 0 | U107: =ROUND(SUM(U15:U105),-3) -> 0
A109: Add additional lines, if necessary, above the last row of data to maintain totals and formulas.
A110: Provide all supporting documentation to your Finance Budget Analyst. | Q110: Staff Benefits Rate: | S110: =S107/Q107 -> #DIV/0!
A112: Adjustments listed on Worksheet 3 may be reflected as hourly, monthly, or annually. Please convert calculations to same time periods when making the adjustments to
A113: ensure that they reflect full adjustments applicable in each fiscal year based on the effective date of the adjustment.
A115: a The Adjustment Number is the identifier unique to each Salary Adjustment included on Worksheet 3. Departments must include the corresponding identifier for each adjustment requested.
A116: b The Collective Bargaining Identification (CBID) number (e.g., R01, M01, C01, S01, E97).
A117: c Each classification has been assigned a classification code consisting of four digits. The classification code must be entered for all salary adjustments unless designated "All" on Worksheet 3, in
A118: which case "various" can be used in lieu of a class code.
A119: d The effective date is the date that the adjustment is effective, as detailed on Worksheet 3.
A120: e Please provide a brief description of the adjustment. Use descriptions outlined on Worksheet 3; however, if additional specificity is required, please summarize. For example, if a department has
A121: an employee who is entitled to the "$2,400 per year Recruitment and Retention Differential for Salinas Valley," a more concise description might be "$2,400 R&R - Salinas."
A122: f Departments should display the total number of positions in the classification that are affected by the adjustment. The total number of positions receiving GSI/SSA should not exceed the department's
A123: total number of authorized positions on Schedule 7A.
A124: g Enter the amount of the adjustment (e.g., "-5%" for a five percent salary decrease, "$1,200" for the full-year cost of a $100/month differential).
...

Sheet 5
L1: ='9800 Checklist'!K1 -> BL 26-23
L2: Worksheet 5
G3: Item 9800 Benefit Adjustment Worksheet
G4: Current Year 2026-27
G5: (Whole Dollars—Rounded to Nearest Thousand)
A7: ='9800 Checklist'!A5:E5 -> 0
A8: Business Unit # (Org Code)
A10: ='9800 Checklist'!A7:E7 -> 0
A11: Department Name
A13: CBIDa | C13: Enrollment Status | E13: Number of Enrolleesb | G13: 2026 Change in Employer's Maximum Monthly Contributionc | I13: Months | K13: Total
G14: Health Adjustments
A15: R01, R03, R04, R11, R14, R15, | C15: 1-Party | G15: ='3b'!C7 -> 35 | I15: 7 | K15: =(E15*G15*I15) -> 0
A16: R17, R20, and R21 | C16: 2-Party | G16: ='3b'!D7 -> 68 | I16: 7 | K16: =(E16*G16*I16) -> 0
C17: Family | G17: ='3b'!E7 -> 86 | I17: 7 | K17: =(E17*G17*I17) -> 0
A19: R02, R06, R07, R12, R13, R18 | C19: 1-Party | G19: ='3b'!C7 -> 35 | I19: 7 | K19: =(E19*G19*I19) -> 0
C20: 2-Party | G20: ='3b'!D7 -> 68 | I20: 7 | K20: =(E20*G20*I20) -> 0
C21: Family | G21: ='3b'!E7 -> 86 | I21: 7 | K21: =(E21*G21*I21) -> 0
A23: R05, R08, R09, Excluded | C23: 1-Party | G23: ='3b'!C10 -> 37 | I23: 7 | K23: =(E23*G23*I23) -> 0
C24: 2-Party | G24: ='3b'!D10 -> 71 | I24: 7 | K24: =(E24*G24*I24) -> 0
C25: Family | G25: ='3b'!E10 -> 88 | I25: 7 | K25: =(E25*G25*I25) -> 0
G27: Dental Adjustments | K27: =E28*G28*I28 -> 0
A28: R01, R03, R04, R05, R06, R09, | C28: 1-Party | G28: ='3b'!C14 -> 3.33 | I28: 7 | K28: =E29*G29*I29 -> 0
A29: R10, R11, R12, R13, R14, R15, | C29: 2-Party | G29: ='3b'!D14 -> 5.81 | I29: 7
A30: R20, R21 | C30: Family | G30: ='3b'!E14 -> 8.4 | I30: 7 | K30: =E30*G30*I30 -> 0
A32: R02, R07, R08, R16, R17, R18, | C32: 1-Party | G32: ='3b'!C15 -> 3 | I32: 7 | K32: =E32*G32*I32 -> 0
A33: R19 | C33: 2-Party | G33: ='3b'!D15 -> 5 | I33: 7 | K33: =E33*G33*I33 -> 0
A34: (CoBen) (All Enrollees) | C34: Family | G34: ='3b'!E15 -> 9 | I34: 7 | K34: =E34*G34*I34 -> 0
A36: Excluded | C36: 1-Party | G36: ='3b'!C16 -> 3 | I36: 7 | K36: =E36*G36*I36 -> 0
A37: (All Enrollees) | C37: 2-Party | G37: ='3b'!D16 -> 7 | I37: 7 | K37: =E37*G37*I37 -> 0
C38: Family | G38: ='3b'!E16 -> 10 | I38: 7 | K38: =E38*G38*I38 -> 0
I40: TOTAL CURRENT YEAR (2026-27)d: | K40: =ROUND(SUM(K15:K38),-3) -> 0
A41: a The Collective Bargaining Identification (CBID) number (e.g., R01, M01, C01, S01, E97).
A42: b Departments are to enter the number of employees currently enrolled in either 1-Party, 2-Party, or Family plans. Employees opting for the cash value (FlexElect Cash Option) must be excluded from the amount entered under
A43: the "Number of Enrollees." Supporting documents identifying actual enrollee data must be provided to your Finance Budget Analyst.
A44: c Represents the increase in the state employer's maximum monthly contribution for health and dental benefits (refer to Worksheet 3b).
A45: d The "Current Year Total" must tie to the "Staff Benefits" column on Line 1 of Worksheet 1.
C46: ='1'!B35 -> ***Please note all highlighted cells retrieve data from cells contained in this Worksheet and/or Workbook***
E47: ='1'!C37 -> Due to Finance Budget Analyst no later than COB October 23, 2026
L48: ='9800 Checklist'!K1 -> BL 26-23
L49: Worksheet 5
...

Sheet 6
Q1: ='9800 Checklist'!K1 -> BL 26-23
Q2: Worksheet 6
E3: Item 9800 Other Post-Employment Benefits (OPEB) Worksheet
E4: Current Year 2026-27
E5: (Whole Dollars—Rounded to Nearest Thousand)
A7: ='9800 Checklist'!A5:E5 -> 0
A8: Business Unit # (Org Code)
A10: ='9800 Checklist'!A7:E7 -> 0
A11: Department Name
A13: This OPEB adjustment impacts ALL departments whose employees were represented by a state bargaining unit and their associated excluded/exempt employees.
A16: Adjustment Numbera | C16: CBIDb | E16: Class Codec | G16: Effective Dated | I16: Brief Descriptione | K16: Number of Positionsf | M16: OPEB Percentageg | O16: Pensionable Compensationh | Q16: OPEB Adjustmenti
Q18: =ROUND((O18*M18),0) -> 0
Q19: =ROUND((O19*M19),0) -> 0
Q20: =ROUND((O20*M20),0) -> 0
Q21: =ROUND((O21*M21),0) -> 0
Q22: =ROUND((O22*M22),0) -> 0
Q23: =ROUND((O23*M23),0) -> 0
Q24: =ROUND((O24*M24),0) -> 0
Q25: =ROUND((O25*M25),0) -> 0
Q26: =ROUND((O26*M26),0) -> 0
Q27: =ROUND((O27*M27),0) -> 0
M29: CURRENT YEAR TOTAL (2026-27 7-28): | O29: =ROUND(SUM(O17:O28),-3) -> 0 | Q29: =ROUND(SUM(Q17:Q28),-3) -> 0
A31: Add additional lines, if necessary, above the last row of data to maintain totals and formulas.
A32: Provide all supporting documentation to your respective Finance Budget Analyst.
A35: a The Adjustment Number is the identifier unique to each Salary Adjustment included on Worksheet 3. Departments must include the corresponding identifier for each adjustment requested.
A36: b The Collective Bargaining Identification (CBID) number (e.g., R01, M01, C01, S01, E97).
A37: c Each classification has been assigned a classification code consisting of four digits. The classification code must be entered for all salary adjustments unless designated "All" on Worksheet 3,
A38: in which case "various" can be used in lieu of a class code.
A39: d The effective date is the date that the adjustment is effective, as detailed on Worksheet 3.
A40: e Please provide a brief description of the adjustment. Use descriptions outlined on Worksheet 3.
A41: f Departments should display the total number of positions in the classification that are affected by the adjustment.
A42: g Enter the amount of the OPEB adjustment, as identified in Worksheet 3.
A43: NEW THIS YEAR: The OPEB contribution for state employer and most state employees were suspended for the 2026-27 fiscal year. As a result, the OPEB adjustments should be
A44: NEGATIVE for current year for all bargaining units and associated excluded/exempt employees except for the following bargaining units:
C46: SEIU (BUs 1,3,4,11,14,15,17,20,and 21) - OPEB contribution suspended for 11 months
C47: CAHP (BU 5) - OPEB contribution suspended for 11 months
C48: CAPS (BU 10) - OPEB contribution suspended for 9 months
C49: UAPD (BU 16) - OPEB contribution suspended for 11 months
A51: h Includes base salary as well as pay differentials and bonuses that have been determined to be included towards the calculation of an employee's pensionable compensation.
A52: i This column reflects the calculation of the pensionable compensation salary base multiplied by the OPEB percent adjustment.
...

Sheet 7
N1: ='9800 Checklist'!K1 -> BL 26-23
N2: Worksheet 7
G3: Item 9800 Salary and Benefit Adjustment Fund Split Worksheet
G4: (Whole Dollars—Rounded to Nearest Thousand)c
A6: ='9800 Checklist'!A5:E5 -> 0
A7: Business Unit # (Org Code)
A9: ='9800 Checklist'!A7:E7 -> 0
A10: Department Name
J11: 2026-27 | M11: 2027-28
C12: Appropriation Itema | J12: Baseline Adjustment Type | M12: Baseline Adjustment Type
B13: Business Unit | C13: Ref Code | D13: Fund Code | E13: Item | F13: Program Code | G13: Category Code** | H13: FUND CLASSb | I13: Salary Adjustment (510XXXX) | J13: Benefit Adjustment (515XXXX) | K13: OPEB Adjustment (5150820) | L13: Salary Adjustment (510XXXX) | M13: Benefit Adjustment (515XXXX) | N13: OPEB Adjustment (5150820)
A14: 1 | H14: =IF(LEFT(G14,2)="48","R",IF(D14="","N/A",VLOOKUP(D14,UCM!$A$2:$B$2000,2,FALSE))) -> N/A
A15: 2 | E15: =IF(B15="","",(CONCATENATE(TEXT(B15,"###0000_);[Red](#,##0)")," ", TEXT(C15,"###000_);[Red](#,##0)")," ", TEXT(D15,"###0000_);[Red](#,##0)")))) | H15: =IF(LEFT(G15,2)="48","R",IF(D15="","N/A",VLOOKUP(D15,UCM!$A$2:$B$2000,2,FALSE))) -> N/A
A16: 3 | E16: =IF(B16="","",(CONCATENATE(TEXT(B16,"###0000_);[Red](#,##0)")," ", TEXT(C16,"###000_);[Red](#,##0)")," ", TEXT(D16,"###0000_);[Red](#,##0)")))) | H16: =IF(LEFT(G16,2)="48","R",IF(D16="","N/A",VLOOKUP(D16,UCM!$A$2:$B$2000,2,FALSE))) -> N/A
A17: 4 | E17: =IF(B17="","",(CONCATENATE(TEXT(B17,"###0000_);[Red](#,##0)")," ", TEXT(C17,"###000_);[Red](#,##0)")," ", TEXT(D17,"###0000_);[Red](#,##0)")))) | H17: =IF(LEFT(G17,2)="48","R",IF(D17="","N/A",VLOOKUP(D17,UCM!$A$2:$B$2000,2,FALSE))) -> N/A
A18: 5 | E18: =IF(B18="","",(CONCATENATE(TEXT(B18,"###0000_);[Red](#,##0)")," ", TEXT(C18,"###000_);[Red](#,##0)")," ", TEXT(D18,"###0000_);[Red](#,##0)")))) | H18: =IF(LEFT(G18,2)="48","R",IF(D18="","N/A",VLOOKUP(D18,UCM!$A$2:$B$2000,2,FALSE))) -> N/A
A19: 6 | E19: =IF(B19="","",(CONCATENATE(TEXT(B19,"###0000_);[Red](#,##0)")," ", TEXT(C19,"###000_);[Red](#,##0)")," ", TEXT(D19,"###0000_);[Red](#,##0)")))) | H19: =IF(LEFT(G19,2)="48","R",IF(D19="","N/A",VLOOKUP(D19,UCM!$A$2:$B$2000,2,FALSE))) -> N/A
A20: 7 | E20: =IF(B20="","",(CONCATENATE(TEXT(B20,"###0000_);[Red](#,##0)")," ", TEXT(C20,"###000_);[Red](#,##0)")," ", TEXT(D20,"###0000_);[Red](#,##0)")))) | H20: =IF(LEFT(G20,2)="48","R",IF(D20="","N/A",VLOOKUP(D20,UCM!$A$2:$B$2000,2,FALSE))) -> N/A
A21: 8 | E21: =IF(B21="","",(CONCATENATE(TEXT(B21,"###0000_);[Red](#,##0)")," ", TEXT(C21,"###000_);[Red](#,##0)")," ", TEXT(D21,"###0000_);[Red](#,##0)")))) | H21: =IF(LEFT(G21,2)="48","R",IF(D21="","N/A",VLOOKUP(D21,UCM!$A$2:$B$2000,2,FALSE))) -> N/A
A22: 9 | E22: =IF(B22="","",(CONCATENATE(TEXT(B22,"###0000_);[Red](#,##0)")," ", TEXT(C22,"###000_);[Red](#,##0)")," ", TEXT(D22,"###0000_);[Red](#,##0)")))) | H22: =IF(LEFT(G22,2)="48","R",IF(D22="","N/A",VLOOKUP(D22,UCM!$A$2:$B$2000,2,FALSE))) -> N/A
A23: 10 | E23: =IF(B23="","",(CONCATENATE(TEXT(B23,"###0000_);[Red](#,##0)")," ", TEXT(C23,"###000_);[Red](#,##0)")," ", TEXT(D23,"###0000_);[Red](#,##0)")))) | H23: =IF(LEFT(G23,2)="48","R",IF(D23="","N/A",VLOOKUP(D23,UCM!$A$2:$B$2000,2,FALSE))) -> N/A
A24: 11 | E24: =IF(B24="","",(CONCATENATE(TEXT(B24,"###0000_);[Red](#,##0)")," ", TEXT(C24,"###000_);[Red](#,##0)")," ", TEXT(D24,"###0000_);[Red](#,##0)")))) | H24: =IF(LEFT(G24,2)="48","R",IF(D24="","N/A",VLOOKUP(D24,UCM!$A$2:$B$2000,2,FALSE))) -> N/A
A25: 12 | E25: =IF(B25="","",(CONCATENATE(TEXT(B25,"###0000_);[Red](#,##0)")," ", TEXT(C25,"###000_);[Red](#,##0)")," ", TEXT(D25,"###0000_);[Red](#,##0)")))) | H25: =IF(LEFT(G25,2)="48","R",IF(D25="","N/A",VLOOKUP(D25,UCM!$A$2:$B$2000,2,FALSE))) -> N/A
A26: 13 | E26: =IF(B26="","",(CONCATENATE(TEXT(B26,"###0000_);[Red](#,##0)")," ", TEXT(C26,"###000_);[Red](#,##0)")," ", TEXT(D26,"###0000_);[Red](#,##0)")))) | H26: =IF(LEFT(G26,2)="48","R",IF(D26="","N/A",VLOOKUP(D26,UCM!$A$2:$B$2000,2,FALSE))) -> N/A
... A1063: 1050 | E1063: =IF(B1063="","",(CONCATENATE(TEXT(B1063,"###0000_);[Red](#,##0)")," ", TEXT(C1063,"###000_);[Red](#,##0)")," ", TEXT(D1063,"###0000_);[Red](#,##0)")))) | H1063: =IF(LEFT(G1063,2)="48","R",IF(D1063="","N/A",VLOOKUP(D1063,UCM!$A$2:$B$2000,2,FALSE))) -> N/A
A1064: Total Salary, Benefit, & OPEB Adjustments | J1064: =SUBTOTAL(9,I14:K1063) -> 0 | M1064: =SUBTOTAL(9,L14:N1063) -> 0
J1066: 2026-27 | M1066: 2027-28
I1067: Salary Adjustment Total | J1067: Benefit Adjustments Total | K1067: OPEB Adjustments Total | L1067: Salary Adjustment Total | M1067: Benefit Adjustments Total | N1067: OPEB Adjustments Total
I1068: =ROUND(SUM(I14:I1063),-3) -> 0 | J1068: =ROUND(SUM(J14:J1063),-3) -> 0 | K1068: =ROUND(SUM(K14:K1063),-3) -> 0 | L1068: =ROUND(SUM(L14:L1063),-3) -> 0 | M1068: =ROUND(SUM(M14:M1063),-3) -> 0 | N1068: =ROUND(SUM(N14:N1063),-3) -> 0
I1070: 2026-27 Fund Classification | L1070: 2027-28 Fund Classification
I1071: GF | J1071: =ROUND(SUMIF($H$13:$H$1063,I1071,$I$13:$I$1063)+SUMIF($H$13:$H$1063,I1071,$J$13:$J$1063)+SUMIF($H$13:$H$1063,I1071,$K$13:$K$1063),-3) -> 0 | L1071: GF | M1071: =ROUND(SUMIF($H$13:$H$1063,L1071,$L$13:$L$1063)+SUMIF($H$13:$H$1063,L1071,$M$13:$M$1063)+SUMIF($H$13:$H$1063,L1071,$N$13:$N$1063),-3) -> 0
I1072: SF | J1072: =ROUND(SUMIF($H$13:$H$1063,I1072,$I$13:$I$1063)+SUMIF($H$13:$H$1063,I1072,$J$13:$J$1063)+SUMIF($H$13:$H$1063,I1072,$K$13:$K$1063),-3) -> 0 | L1072: SF | M1072: =ROUND(SUMIF($H$13:$H$1063,L1072,$L$13:$L$1063)+SUMIF($H$13:$H$1063,L1072,$M$13:$M$1063)+SUMIF($H$13:$H$1063,L1072,$N$13:$N$1063),-3) -> 0
I1073: NGC | J1073: =ROUND(SUMIF($H$13:$H$1063,I1073,$I$13:$I$1063)+SUMIF($H$13:$H$1063,I1073,$J$13:$J$1063)+SUMIF($H$13:$H$1063,I1073,$K$13:$K$1063),-3) -> 0 | L1073: NGC | M1073: =ROUND(SUMIF($H$13:$H$1063,L1073,$L$13:$L$1063)+SUMIF($H$13:$H$1063,L1073,$M$13:$M$1063)+SUMIF($H$13:$H$1063,L1073,$N$13:$N$1063),-3) -> 0
I1074: R | J1074: =ROUND(SUMIF($H$13:$H$1063,I1074,$I$13:$I$1063)+SUMIF($H$13:$H$1063,I1074,$J$13:$J$1063)+SUMIF($H$13:$H$1063,I1074,$K$13:$K$1063),-3) -> 0 | L1074: R | M1074: =ROUND(SUMIF($H$13:$H$1063,L1074,$L$13:$L$1063)+SUMIF($H$13:$H$1063,L1074,$M$13:$M$1063)+SUMIF($H$13:$H$1063,L1074,$N$13:$N$1063),-3) -> 0
I1076: Total, All Fundsc | J1076: =ROUND(SUM(J1071:J1074),-3) -> 0 | L1076: Total, All Fundsc | M1076: =ROUND(SUM(M1071:M1074),-3) -> 0
I1077: Total, Net of Reimbursements | J1077: =J1076-J1074 -> 0 | L1077: Total, Net of Reimbursements | M1077: =M1076-M1074 -> 0
A1079: a Enter the Business Unit (BU), reference code, fund code, and category code for each Appropriation Item. If there is a transfer or an agency secretary adjustment, please indicate all affected items; due to fund transfers, it is possible that there will be both positive and negative amounts listed
A1080: for the same adjustment.
A1081: b Please refer to the Uniform Codes Manual (https://dof.ca.gov/accounting/accounting-policies-and-procedures/accounting-policies-and-procedures-uniform-codes-manual/) to ensure that the fund classification is correct. GF, SF, NGC, or R will be used for the fund classification in this column.
A1082: Federal funds and bond funds will be classified as nongovernmental cost funds.
...

Sheet 8
F1: ='9800 Checklist'!K1 -> BL 26-23
F2: Worksheet 8
A3: Item 9800 Crossties
A5: ='9800 Checklist'!A5:E5 -> 0
A6: ='1'!A8 -> Business Unit # (Org Code)
A8: ='9800 Checklist'!A7:E7 -> 0
A9: Department Name
D10: Current Year | F10: Budget Year
A11: Description | D11: 2026-27 | F11: 2027-28
A13: Worksheet 1 (Total By Fund Class) - Worksheet 1 (Total Adjustment) | D13: ='1'!J28-'1'!J32 -> 0 | F13: ='1'!J66-'1'!J70 -> 0
A14: Worksheet 1 (Salary Adjustment) - Worksheet 4 (Salary Adjustment Total) | D14: ='1'!E20:E20-'4'!Q107 -> 0 | F14: =SUM('1'!E58:E58)-'4'!Q240 -> 0
A15: Worksheet 1 (Salary Adjustment Staff Benefits) - Worksheet 4 (Staff Benefits Total) | D15: =SUM('1'!G20:H20)-'4'!S107 -> 0 | F15: =SUM('1'!H58:H58)-'4'!S240 -> 0
A16: Worksheet 1 (Salary Adjustment Total Adjustment) - Worksheet 4 (Total Adjustment) | D16: ='1'!J20-'4'!U107 -> 0 | F16: ='1'!J58-'4'!U240 -> 0
A17: Worksheet 1 (Benefit Adjustment Staff Benefits) - Worksheet 5 (Total) | D17: ='1'!J22-'5'!K40 -> 0 | F17: ='1'!J60-'5'!K88 -> 0
A18: Worksheet 1 (OPEB Adjustment) - Worksheet 6 (OPEB Adjustment Total) | D18: ='1'!J24-'6'!Q29 -> 0 | F18: ='1'!J62-'6'!Q83 -> 0
A19: Worksheet 1 (Total By Fund Class) - Worksheet 7 (Total, All Funds) | D19: ='1'!J28-'7'!J1076 -> 0 | F19: ='1'!J66-'7'!M1076 -> 0
A20: Worksheet 1 (Subtotal Amount of Change) - Worksheet 7 (Salaries Adjustment Total) | D20: =SUM('1'!E26:E26)-'7'!I1068 -> 0 | F20: =SUM('1'!E64:E64)-'7'!L1068 -> 0
A21: Worksheet 1 (Subtotal Staff Benefits) - Worksheet 7 (Benefit Adjustment Total) | D21: =(SUM('1'!G20:H20)+SUM('1'!H22:H22))-'7'!J1068 -> 0 | F21: =(SUM('1'!H58:H58)+SUM('1'!H60:H60))-'7'!M1068 -> 0
A22: Worksheet 1 (Subtotal OPEB) - Worksheet 7 (Benefit Adjustment Total) | D22: =SUM('1'!H24:H24)-'7'!K1068 -> 0 | F22: =SUM('1'!H62:H62)-'7'!N1068 -> 0
A24: ='9800 Checklist'!D55 -> Due to Finance Budget Analyst no later than COB October 23, 2026

Sheet UCM
A1: Fund Code | B1: Fund Class | C1: LongTitle | D1: Source Code
A2: 0001 | B2: GF | C2: General Fund | D2: G | F2: =_xlfn.CONCAT(A2," - ",C2) -> 0001 - General Fund
A3: 0002 | B3: SF | C3: Property Acquisition Law Money Account | D3: S | F3: =_xlfn.CONCAT(A3," - ",C3) -> 0002 - Property Acquisition Law Money Account
A4: 0003 | B4: SF | C4: Motor Vehicle Parking Facilities Moneys Account | D4: S | F4: =_xlfn.CONCAT(A4," - ",C4) -> 0003 - Motor Vehicle Parking Facilities Moneys Account
A5: 0004 | B5: SF | C5: Breast Cancer Fund | D5: O | F5: =_xlfn.CONCAT(A5," - ",C5) -> 0004 - Breast Cancer Fund
A6: 0005 | B6: NGC | C6: Safe Neighborhood Parks, Clean Water, Clean Air and Coastal Protection Bond Fund | D6: B | F6: =_xlfn.CONCAT(A6," - ",C6) -> 0005 - Safe Neighborhood Parks, Clean Water, Clean Air and Coastal Protection Bond Fund
A7: 0006 | B7: SF | C7: Disability Access Account | D7: S | F7: =_xlfn.CONCAT(A7," - ",C7) -> 0006 - Disability Access Account
A8: 0007 | B8: SF | C8: Breast Cancer Research Account, Breast Cancer Fund | D8: O | F8: =_xlfn.CONCAT(A8," - ",C8) -> 0007 - Breast Cancer Research Account, Breast Cancer Fund
A9: 0008 | B9: SF | C9: Boxers Pension Account | D9: S | F9: =_xlfn.CONCAT(A9," - ",C9) -> 0008 - Boxers Pension Account
A10: 0009 | B10: SF | C10: Breast Cancer Control Account, Breast Cancer Fund | D10: O | F10: =_xlfn.CONCAT(A10," - ",C10) -> 0009 - Breast Cancer Control Account, Breast Cancer Fund
A11: 0010 | B11: SF | C11: Hazardous Materials Enforcement and Training Account | D11: S | F11: =_xlfn.CONCAT(A11," - ",C11) -> 0010 - Hazardous Materials Enforcement and Training Account
A12: 0011 | B12: SF | C12: Disability Insurance Program Acct Boxers | D12: S | F12: =_xlfn.CONCAT(A12," - ",C12) -> 0011 - Disability Insurance Program Acct Boxers
A13: 0012 | B13: SF | C13: Attorney General Antitrust Account | D13: S | F13: =_xlfn.CONCAT(A13," - ",C13) -> 0012 - Attorney General Antitrust Account
... A1713: 8141 | B1713: NGC | C1713: Electronic Cigarette Settlements Fund | D1713: A | F1713: =_xlfn.CONCAT(A1713," - ",C1713) -> 8141 - Electronic Cigarette Settlements Fund
A1714: 8142 | B1714: NGC | C1714: Affordable Housing Default Reserve Account | D1714: A | F1714: =_xlfn.CONCAT(A1714," - ",C1714) -> 8142 - Affordable Housing Default Reserve Account
A1715: 8500 | B1715: NGC | C1715: Federal Temporary High Risk Health Insurance Fund | D1715: F | F1715: =_xlfn.CONCAT(A1715," - ",C1715) -> 8500 - Federal Temporary High Risk Health Insurance Fund
A1716: 8501 | B1716: NGC | C1716: California Capital Access Fund | D1716: F | F1716: =_xlfn.CONCAT(A1716," - ",C1716) -> 8501 - California Capital Access Fund
A1717: 8502 | B1717: NGC | C1717: LIHP Fund | D1717: A | F1717: =_xlfn.CONCAT(A1717," - ",C1717) -> 8502 - LIHP Fund
A1718: 8503 | B1718: NGC | C1718: Clean and Renewable Energy Business Financing Revolving Loan Fund DO NOT USE | D1718: F | F1718: =_xlfn.CONCAT(A1718," - ",C1718) -> 8503 - Clean and Renewable Energy Business Financing Revolving Loan Fund DO NOT USE
A1719: 8504 | B1719: NGC | C1719: Military Department Workers' Compensation Fund | D1719: F | F1719: =_xlfn.CONCAT(A1719," - ",C1719) -> 8504 - Military Department Workers' Compensation Fund
A1720: 8505 | B1720: NGC | C1720: Coronavirus Relief Fund | D1720: F | F1720: =_xlfn.CONCAT(A1720," - ",C1720) -> 8505 - Coronavirus Relief Fund
A1721: 8506 | B1721: NGC | C1721: Coronavirus Fiscal Recovery Fund of 2021 | D1721: F | F1721: =_xlfn.CONCAT(A1721," - ",C1721) -> 8506 - Coronavirus Fiscal Recovery Fund of 2021
A1722: 8507 | B1722: SF | C1722: Home & Community-Based Services American Rescue Plan Fund | D1722: O | F1722: =_xlfn.CONCAT(A1722," - ",C1722) -> 8507 - Home & Community-Based Services American Rescue Plan Fund
A1723: 8508 | B1723: NGC | C1723: CalFresh E&T Workers’ Compensation Fund | D1723: F | F1723: =_xlfn.CONCAT(A1723," - ",C1723) -> 8508 - CalFresh E&T Workers’ Compensation Fund
A1724: 8509 | B1724: NGC | C1724: Voluntary Offshore Wind and Coastal Resources Protection Fund | D1724: F | F1724: =_xlfn.CONCAT(A1724," - ",C1724) -> 8509 - Voluntary Offshore Wind and Coastal Resources Protection Fund
A1725: 8510 | B1725: NGC | C1725: Federal Health Facilities Citation Penalties Account | D1725: F | F1725: =_xlfn.CONCAT(A1725," - ",C1725) -> 8510 - Federal Health Facilities Citation Penalties Account
A1726: 8814 | B1726: NGC | C1726: Rape Kit Backlog Voluntary Tax Contribution Fund | D1726: A | F1726: =_xlfn.CONCAT(A1726," - ",C1726) -> 8814 - Rape Kit Backlog Voluntary Tax Contribution Fund
... A1781: 9994 | B1781: NGC | C1781: Extramural Funds | D1781: V | F1781: =_xlfn.CONCAT(A1781," - ",C1781) -> 9994 - Extramural Funds
A1782: 1033 | B1782: SF | C1782: Hazardous Waste Facilities Account, Hazardous Waste Control Account
A1783: 1034 | B1783: SF | C1783: Metal Shredding Facility Subaccount, Hazardous Waste Control Account
A1784: 3477 | B1784: SF | C1784: Internal Departmental Quality Improvement Account
A1785: 3478 | B1785: SF | C1785: Skilled Nursing Facility Minimum Staffing Penalty Account
A1786: 3479 | B1786: SF | C1786: State Health Facilities Citation Penalties Account
A1787: 3480 | B1787: SF | C1787: California Civic Media Fund
A1788: 3481 | B1788: SF | C1788: Victims of Consumer Fraud Restitution Fund
A1789: 3482 | B1789: SF | C1789: Combating Unsafe ReLaxers (C.U.R.L.) Act Fund
A1790: 3483 | B1790: SF | C1790: PFAS Enforcement Fund
A1791: 3484 | B1791: SF | C1791: T.A.M.P.O.N. Act Fund
A1792: 3485 | B1792: SF | C1792: Behavioral Health Services Act Innovation Partnership Fund
A1793: 3486 | B1793: SF | C1793: Recovery Account, Real Estate Appraisers Regulation Fund
...

Sheet Category List NEW
A1: Category Codes (COA as of 9.14.2025)
A2: 5100000 Earnings - Permanent Civil Service Employees
A3: 5100150 Earnings - Temporary Civil Service Employees
A4: 5105000 Earnings - Exempt/Statutory Employees
A5: 5105100 Board Members
A6: 5108000 Overtime Earnings (Other than to Temporary Help)
A7: 5150150 Dental Insurance
A8: 5150200 Disability Leave - Industrial
A9: 5150210 Disability Leave - Nonindustrial
A10: 5150350 Health Insurance
A11: 5150400 Life Insurance
A12: 5150450 Medicare Taxation
... A25: 5342500 Indirect Distributed Cost

Sheet UCM 7-21-23
A1: Fund Code | B1: Fund Class For Drill | C1: Long Title | D1: Fund Class | E1: Source Code | F1: Status Flag
A2: 0001 | B2: GF | C2: General Fund | D2: G | E2: G | F2: A
A3: 0002 | B3: SF | C3: Property Acquisition Law Money Account | D3: S | E3: S | F3: A
A4: 0003 | B4: SF | C4: Motor Vehicle Parking Facilities Moneys Account | D4: S | E4: S | F4: A
A5: 0004 | B5: SF | C5: Breast Cancer Fund | D5: S | E5: O | F5: A
A6: 0005 | B6: NGC | C6: Safe Neighborhood Parks, Clean Water, Clean Air and Coastal Protection Bond Fund | D6: B | E6: B | F6: A
A7: 0006 | B7: SF | C7: Disability Access Account | D7: S | E7: S | F7: A
A8: 0007 | B8: SF | C8: Breast Cancer Research Account, Breast Cancer Fund | D8: S | E8: O | F8: A
A9: 0008 | B9: SF | C9: Boxers Pension Account | D9: S | E9: S | F9: B
A10: 0009 | B10: SF | C10: Breast Cancer Control Account, Breast Cancer Fund | D10: S | E10: O | F10: A
A11: 0010 | B11: SF | C11: Hazardous Materials Enforcement and Training Account | D11: S | E11: S | F11: B
A12: 0012 | B12: SF | C12: Attorney General Antitrust Account | D12: S | E12: S | F12: A
... A1416: 3435 | B1416: SF | C1416: Special District Fire Response Fund, California Fire Response Fund | D1416: S | E1416: O | F1416: A
A1417: 3437 | B1417: SF | C1417: Gun Violence Prevention and School Safety Fund | D1417: S | E1417: O | F1417: A
A1418: 3438 | B1418: SF | C1418: Household Goods and Services Fund, Professions and Vocations Fund | D1418: S | E1418: O | F1418: A
A1419: 6000 | B1419: NGC | C1419: California Public Library Construction and Renovation Fund | D1419: B | E1419: B | F1419: A
A1420: 6001 | B1420: NGC | C1420: Safe Drinking Water, Clean Water, Watershed Protection & Flood Protection Bd Fd | D1420: B | E1420: B | F1420: A
A1421: 6002 | B1421: NGC | C1421: Flood Protection Account | D1421: B | E1421: B | F1421: A
A1422: 6003 | B1422: NGC | C1422: Floodplain Mapping Subaccount | D1422: B | E1422: B | F1422: A
A1423: 6004 | B1423: NGC | C1423: Agriculture and Open Space Mapping Subaccount | D1423: B | E1423: B | F1423: A
A1424: 6005 | B1424: NGC | C1424: Flood Protection Corridor Subaccount | D1424: B | E1424: B | F1424: A
A1425: 6006 | B1425: NGC | C1425: Flood Control Subventions Subaccount | D1425: B | E1425: B | F1425: A
A1426: 6007 | B1426: NGC | C1426: Urban Stream Restoration Subaccount | D1426: B | E1426: B | F1426: A
A1427: 6008 | B1427: NGC | C1427: State Capital Protection Subaccount | D1427: B | E1427: B | F1427: A
A1428: 6009 | B1428: NGC | C1428: San Lorenzo River Flood Control Subaccount | D1428: B | E1428: B | F1428: A
A1429: 6010 | B1429: NGC | C1429: Yuba Feather Flood Protection Subaccount | D1429: B | E1429: B | F1429: A
A1430: 6011 | B1430: NGC | C1430: Arroyo Pasajero Watershed Subaccount | D1430: B | E1430: B | F1430: A
... A1711: 9994 | B1711: NGC | C1711: Extramural Funds | D1711: N | E1711: V | F1711: A

Sheet Category List
A1: Category Codes (COA reviewed as of 7-17-2023/Hyperion COA as of 7-17-2023)
A2: 5100000-Earnings - Permanent Civil Service Employees | B2: 510
A3: 5100150-Earnings - Temporary Civil Service Employees
A4: 5105000-Earnings - Exempt/Statutory Employees
A5: 5105100-Board Members
A6: 5108000-Overtime Earnings (Other than to Temporary Help)
A7: 5150150-Dental Insurance | B7: 515
A8: 5150200-Disability Leave - Industrial
A9: 5150210-Disability Leave - Nonindustrial
A10: 5150350-Health Insurance
A11: 5150400-Life Insurance
A12: 5150450-Medicare Taxation
A13: 5150500-OASDI
A14: 5150600-Retirement - General
A15: 5150610-Retirement - Public Employees - Industrial
A16: 5150620-Retirement - Public Employees - Safety
A17: 5150630-Retirement - Public Employees - Miscellaneous
A18: 5150640-Retirement - Judges and Justices
A19: 5150700-Unemployment Insurance
... A24: 5150900-Staff Benefits - Other
A25: 5342500-Indirect Distributed Cost | B25: Distributed Administration
A29: GSI Adjustments
A30: Adj | B30: BUs | E30: CY FTE Sum | F30: BY FTE Sum
A31: 1 | B31: 7, 9 | E31: {=SUMIF('4'!A16:A105,'Category List'!A31:A50,'4'!K16:K105)} -> 0 | F31: {=SUMIF('4'!A149:A238,'Category List'!A31:A50,'4'!K149:K238)} -> 0
A32: 2 | B32: 16, 19 | E32: 0 | F32: 0
A33: 3 | B33: 1, 3, 4, 6, 11, 14, 15, 17, 20, 21 | E33: 0 | F33: 0
A34: 4 | B34: 5 | E34: 0 | F34: 0
A35: 5 | B35: Judges | E35: 0 | F35: 0
A36: 7 | B36: 2 | E36: 0 | F36: 0
A37: 8 | B37: 2 | E37: 0 | F37: 0
A38: 16 | B38: 12 | E38: 0 | F38: 0
A39: 17 | B39: 12 | E39: 0 | F39: 0
A40: 18 | B40: 12 | E40: 0 | F40: 0
A41: 20 | B41: 13 | E41: 0 | F41: 0
A42: 21 | B42: 13 | E42: 0 | F42: 0
A43: 25 | B43: 18 | E43: 0 | F43: 0
A44: 26 | B44: 18 | E44: 0 | F44: 0
A45: 34 | B45: 8 | E45: 0 | F45: 0
A46: 35 | B46: 8 | E46: 0 | F46: 0
A47: 42 | B47: 10 | E47: 0 | F47: 0
...
